BEGIN:VCALENDAR
VERSION:2.0
PRODID:-//SafePath - ECPv6.15.20//NONSGML v1.0//EN
CALSCALE:GREGORIAN
METHOD:PUBLISH
X-WR-CALNAME:SafePath
X-ORIGINAL-URL:https://safepath.org
X-WR-CALDESC:Events for SafePath
REFRESH-INTERVAL;VALUE=DURATION:PT1H
X-Robots-Tag:noindex
X-PUBLISHED-TTL:PT1H
BEGIN:VTIMEZONE
TZID:UTC
BEGIN:STANDARD
TZOFFSETFROM:+0000
TZOFFSETTO:+0000
TZNAME:UTC
DTSTART:20240101T000000
END:STANDARD
END:VTIMEZONE
BEGIN:VEVENT
DTSTART;TZID=UTC:20260415T110000
DTEND;TZID=UTC:20260415T170000
DTSTAMP:20260423T182152
CREATED:20240129T170623Z
LAST-MODIFIED:20260409T142858Z
UID:3798-1776250800-1776272400@safepath.org
SUMMARY:2026 Atkins Golf Classic benefitting SafePath
DESCRIPTION:2026 ATKINSRéalis GOLF CLASSIC \nBENEFITING SAFEPATH CHILDREN’S ADVOCACY CENTER \nGOLD Sponsor $2\,500 \n\nOne foursome\nCompany’s name prominently displayed at registration and reception area\nRecognition during opening announcements and Awards Ceremony\nSponsor Sign Placed on Two Holes\nOpportunity to provide 2 promotional items in player gift bags\n\nSILVER Sponsor $1\,500 \n\nOne foursome\nCompany’s name prominently displayed at registration and reception area\nRecognition during opening announcements and Awards Ceremony\nSponsorship Sign Placed on One Hole\nOpportunity to provide 1 promotional items in player gift bags\n\nTEAM $850 \n\nOne foursome\n\n19th Hole Reception $750 \n\nHost Awards Reception\nCompany name/logo prominently displayed at reception area\nRecognition during the awards reception\nOpportunity to provide 1 promotional item in player gift bags\n\nBeverage Sponsor $650 \n\nHost Beverages for Tournament\nCompany name prominently displayed at registration area\nRecognition during the opening announcements\nOpportunity to provide 1 promotional item in player gift bags\n\nHole $250 \n\nSponsorship Sign Placed on One Hole\nOpportunity to provide 1 promotional item in player gift bags\n\nDonations also accepted in any amount
URL:https://safepath.org/event/2026atkinsgolfclassic/
LOCATION:Cobblestone Golf Course\, 4200 Nance Rd\, Acworth\, GA\, 30101\, United States
CATEGORIES:SafePath Event
END:VEVENT
BEGIN:VEVENT
DTSTART;VALUE=DATE:20260327
DTEND;VALUE=DATE:20260330
DTSTAMP:20260423T182152
CREATED:20240130T153424Z
LAST-MODIFIED:20260330T191016Z
UID:3783-1774569600-1774828799@safepath.org
SUMMARY:Georgia Food and Wine Festival 2026
DESCRIPTION:SafePath is excited to announce that we are the 2026 Charity Partner for The Georgia Food + Wine Festival!\n\nThe Georgia Food + Wine Festival celebrates the best of our region with chef-driven tastings\, exceptional wines and spirits\, live cooking stages\, and experiences inspired by the flavors of the South. Each event is crafted to highlight local talent\, regional ingredients\, and the vibrant culinary community that makes Georgia unique. \nThe Line Up: \nFriday Fired Up brings an energetic start to the weekend with live-fire cooking\, bold flavors\, craft beverages\, and an unforgettable evening under the lights. \nSaturday Savor offers an elevated tasting experience featuring premium wines\, crafted cocktails\, chef-driven bites\, and an atmosphere designed for indulgence. \nSunday Funday closes out the weekend with a relaxed\, family-friendly atmosphere featuring an expanded artisan market\, great shopping\, live entertainment\, and a free kids’ zone.
URL:https://safepath.org/event/gafoodandwinefestival/
LOCATION:Jim R. Miller Park\, 2245 Callaway Rd SW\, Marietta\, GA\, 30008\, United States
CATEGORIES:SafePath Event
ATTACH;FMTTYPE=image/png:https://safepath.org/wp/wp-content/uploads/2024/01/26-GAFW-Site-Header.png
END:VEVENT
BEGIN:VEVENT
DTSTART;TZID=UTC:20250816T180000
DTEND;TZID=UTC:20250816T220000
DTSTAMP:20260423T182152
CREATED:20230113T204713Z
LAST-MODIFIED:20260416T200611Z
UID:3806-1755367200-1755381600@safepath.org
SUMMARY:2025 Hearing Children's Voices
DESCRIPTION:View the photos from 2024 here!
URL:https://safepath.org/event/hcv2025/
LOCATION:Truist Park\, 755 Battery Ave SE\, Atlanta\, GA\, 30339\, United States
CATEGORIES:SafePath Event
ATTACH;FMTTYPE=image/jpeg:https://safepath.org/wp/wp-content/uploads/2023/01/SP_HearingChildVoicesSquare2025.jpg
ORGANIZER;CN="SafePath":MAILTO:info@safepath.org
END:VEVENT
END:VCALENDAR